BEGIN:VCALENDAR
VERSION:2.0
PRODID:-//eventon.com NONSGML v1.0//EN
CALSCALE:GREGORIAN
METHOD:PUBLISH
BEGIN:VEVENT
UID:69e5ff2177dee
DTSTAMP:20260420T102537Z
DTSTART:20250428T053000Z
DTEND:20250428T180000Z
LOCATION:
SUMMARY:High Season Days
DESCRIPTION:Extra maandag openstelling tot 20.00 uur Presentatie Concepten\
 nhttps://www.groen-direkt.nl/events/high-season-days/
URL:https://www.groen-direkt.nl/events/high-season-days/
END:VEVENT
END:VCALENDAR