BEGIN:VCALENDAR
VERSION:2.0
PRODID:-//eventon.com NONSGML v1.0//EN
CALSCALE:GREGORIAN
METHOD:PUBLISH
BEGIN:VEVENT
UID:69e7f74c19d46
DTSTAMP:20260421T221644Z
DTSTART:20250328T160000Z
DTEND:20250328T160000Z
LOCATION:
SUMMARY:Neues Angebot online
DESCRIPTION:Neues Angebot online\nhttps://www.groen-direkt.nl/events/neues-
 angebot-online/?lang=de&var=ri-5.l-L1
URL:https://www.groen-direkt.nl/events/neues-angebot-online/?lang=de&var=ri-5.l-L1
END:VEVENT
END:VCALENDAR