BEGIN:VCALENDAR
VERSION:2.0
PRODID:-//eventon.com NONSGML v1.0//EN
CALSCALE:GREGORIAN
METHOD:PUBLISH
BEGIN:VEVENT
UID:69e7e2d2cbec1
DTSTAMP:20260421T204922Z
DTSTART:20260605T150000Z
DTEND:20260605T150000Z
LOCATION:
SUMMARY:Neues Angebot online
DESCRIPTION:Neues Angebot online\nhttps://www.groen-direkt.nl/events/neues-
 angebot-online/?lang=de&var=ri-44.l-L1
URL:https://www.groen-direkt.nl/events/neues-angebot-online/?lang=de&var=ri-44.l-L1
END:VEVENT
END:VCALENDAR