BEGIN:VCALENDAR
VERSION:2.0
PRODID:-//eventon.com NONSGML v1.0//EN
CALSCALE:GREGORIAN
METHOD:PUBLISH
BEGIN:VEVENT
UID:69e7de06951b0
DTSTAMP:20260421T202854Z
DTSTART:20260320T160000Z
DTEND:20260320T160000Z
LOCATION:
SUMMARY:Neues Angebot online
DESCRIPTION:Neues Angebot online\nhttps://www.groen-direkt.nl/events/neues-
 angebot-online/?lang=de&var=ri-34.l-L1
URL:https://www.groen-direkt.nl/events/neues-angebot-online/?lang=de&var=ri-34.l-L1
END:VEVENT
END:VCALENDAR