BEGIN:VCALENDAR
VERSION:2.0
PRODID:-//eventon.com NONSGML v1.0//EN
CALSCALE:GREGORIAN
METHOD:PUBLISH
BEGIN:VEVENT
UID:69e7f529a047a
DTSTAMP:20260421T220737Z
DTSTART:20260313T160000Z
DTEND:20260313T160000Z
LOCATION:
SUMMARY:Neues Angebot online
DESCRIPTION:Neues Angebot online\nhttps://www.groen-direkt.nl/events/neues-
 angebot-online/?lang=de&var=ri-33.l-L1
URL:https://www.groen-direkt.nl/events/neues-angebot-online/?lang=de&var=ri-33.l-L1
END:VEVENT
END:VCALENDAR