BEGIN:VCALENDAR
VERSION:2.0
PRODID:-//eventon.com NONSGML v1.0//EN
CALSCALE:GREGORIAN
METHOD:PUBLISH
BEGIN:VEVENT
UID:69e9528b4ae86
DTSTAMP:20260422T225819Z
DTSTART:20250627T150000Z
DTEND:20250627T150000Z
LOCATION:
SUMMARY:Neues Angebot online
DESCRIPTION:Neues Angebot online\nhttps://www.groen-direkt.nl/events/neues-
 angebot-online/?lang=de&var=ri-18.l-L1
URL:https://www.groen-direkt.nl/events/neues-angebot-online/?lang=de&var=ri-18.l-L1
END:VEVENT
END:VCALENDAR