BEGIN:VCALENDAR
VERSION:2.0
PRODID:-//eventon.com NONSGML v1.0//EN
CALSCALE:GREGORIAN
METHOD:PUBLISH
BEGIN:VEVENT
UID:69e82bc3825a5
DTSTAMP:20260422T020035Z
DTSTART:20250310T060000Z
DTEND:20250310T190000Z
LOCATION:
SUMMARY:MUSTERMESSE Montag
DESCRIPTION:Eintritt und Parken sind kostenlos. Am Informationsschalter in 
 der Messehalle erhalten Sie einen Code mit Instruktionen für Bestellungen 
 über Smartphone oder &nbsp;Tabletcomputer. Wenn Sie lieber von Hand bestel
 len\,  sind dort auch Bestellformulare erhältlich. Auf der Mustermesse wä
 hlen Sie die gewünschten Produkte aus. Wenn Sie Ihre Bestell-Applikation i
 m Smartphone oder &nbsp;[..]\nhttps://www.groen-direkt.nl/events/mustermess
 e-montag/var/ri-1.l-L1
URL:https://www.groen-direkt.nl/events/mustermesse-montag/var/ri-1.l-L1
END:VEVENT
END:VCALENDAR