BEGIN:VCALENDAR
VERSION:2.0
PRODID:-//eventon.com NONSGML v1.0//EN
CALSCALE:GREGORIAN
METHOD:PUBLISH
BEGIN:VEVENT
UID:69e76119b5528
DTSTAMP:20260421T113553Z
DTSTART:20260320T160000Z
DTEND:20260320T160000Z
LOCATION:
SUMMARY:New stock online
DESCRIPTION:New stock online\nhttps://www.groen-direkt.nl/events/new-stock-
 online/?lang=en&var=ri-35.l-L1
URL:https://www.groen-direkt.nl/events/new-stock-online/?lang=en&var=ri-35.l-L1
END:VEVENT
END:VCALENDAR