BEGIN:VCALENDAR
VERSION:2.0
PRODID:-//eventon.com NONSGML v1.0//EN
CALSCALE:GREGORIAN
METHOD:PUBLISH
BEGIN:VEVENT
UID:69ed88580e122
DTSTAMP:20260426T033656Z
DTSTART:20260330T050000Z
DTEND:20260330T150000Z
LOCATION:
SUMMARY:MONSTERBEURS maandag
DESCRIPTION:Gratis entree en parkeren. Bij de informatiebalie op de beurs o
 ntvangt u een sessiecode met instructies voor het bestellen via uw smartpho
 ne of tablet. Op de monsterbeurs kiest u de door u gewenste producten uit. 
 Indien u de bestelapplicatie op de smartphone of tablet gebruikt\,  worden 
 de geselecteerde producten direct[..]\nhttps://www.groen-direkt.nl/events/m
 onsterbeurs-maandag/var/ri-27.l-L1
URL:https://www.groen-direkt.nl/events/monsterbeurs-maandag/var/ri-27.l-L1
END:VEVENT
END:VCALENDAR