BEGIN:VCALENDAR
VERSION:2.0
PRODID:-//eventon.com NONSGML v1.0//EN
CALSCALE:GREGORIAN
METHOD:PUBLISH
BEGIN:VEVENT
UID:69e7d3f6e82b2
DTSTAMP:20260421T194558Z
DTSTART:20261016T140000Z
DTEND:20261016T140000Z
LOCATION:
SUMMARY:Nieuw aanbod online
DESCRIPTION:Nieuw aanbod online\nhttps://www.groen-direkt.nl/events/nieuw-a
 anbod-online/var/ri-34.l-L1
URL:https://www.groen-direkt.nl/events/nieuw-aanbod-online/var/ri-34.l-L1
END:VEVENT
END:VCALENDAR